BEGIN:VCALENDAR
VERSION:2.0
PRODID:-//wp-events-plugin.com//7.2.3.1//EN
BEGIN:VEVENT
UID:29@polinpallo.fi
DTSTART:20220410T150000Z
DTEND:20220410T163000Z
DTSTAMP:20220612T205402Z
URL:https://polinpallo.fi/?event=polin-pallon-ensimmaisen-hallituksen-vali
 nta&lang=en
SUMMARY:POLIN PALLON ENSIMMÄISEN HALLITUKSEN VALINTA
DESCRIPTION:
END:VEVENT
BEGIN:VEVENT
UID:28@polinpallo.fi
DTSTART:20220424T110000Z
DTEND:20220424T123000Z
DTSTAMP:20220612T205239Z
URL:https://polinpallo.fi/?event=treenit-lehtisaaressa&lang=en
SUMMARY:Treenit Lehtisaaressa
DESCRIPTION:
END:VEVENT
BEGIN:VEVENT
UID:27@polinpallo.fi
DTSTART:20220429T160000Z
DTEND:20220429T234500Z
DTSTAMP:20220612T205143Z
URL:https://polinpallo.fi/?event=walpurin-kierros-rasti&lang=en
SUMMARY:Walpurin kierros rasti
DESCRIPTION:Osallistuimme Walpurin kierrokselle pitämällä menestyksekäs
 tä maalintekorastiaa
END:VEVENT
BEGIN:VEVENT
UID:26@polinpallo.fi
DTSTART:20220514T140000Z
DTEND:20220514T220000Z
DTSTAMP:20220612T204932Z
URL:https://polinpallo.fi/?event=treenit-peli-ilta&lang=en
SUMMARY:Treenit + peli-ilta
DESCRIPTION:Treenit mankkaankoulun kentällä\, ja tämän jälkeen mahdoll
 isuus siirtyä leppävaaraan katsomaan FA-Cupin finaalia
END:VEVENT
BEGIN:VEVENT
UID:25@polinpallo.fi
DTSTART:20220521T170000Z
DTEND:20220521T220000Z
DTSTAMP:20220612T204656Z
URL:https://polinpallo.fi/?event=saunailta&lang=en
SUMMARY:Saunailta
DESCRIPTION:PolPan ensimmäinen saunailta Vaasankadun saunalla
END:VEVENT
BEGIN:VEVENT
UID:24@polinpallo.fi
DTSTART:20220528T120000Z
DTEND:20220528T123000Z
DTSTAMP:20220612T204523Z
URL:https://polinpallo.fi/?event=treenit-mankkaan-koulun-kentalla&lang=en
SUMMARY:Treenit Mankkaan koulun kentällä
DESCRIPTION:
END:VEVENT
BEGIN:VEVENT
UID:21@polinpallo.fi
DTSTART:20220605T150000Z
DTEND:20220605T163000Z
DTSTAMP:20220612T204331Z
URL:https://polinpallo.fi/?event=treenit-otaniemessa-4-2022-06-05&lang=en
SUMMARY:Treenit Otaniemessä
DESCRIPTION:Treenit Otaniemen nurmella osoitteessa Otaranta 6 (Only for the
  members)
LOCATION:Otaniemen nurmikenttä\, Otakaari 6\, ESPOO\, Finland
X-APPLE-STRUCTURED-LOCATION;VALUE=URI;X-ADDRESS=Otakaari 6\, ESPOO\, Finlan
 d;X-APPLE-RADIUS=100;X-TITLE=Otaniemen nurmikenttä:geo:0,0
END:VEVENT
BEGIN:VEVENT
UID:22@polinpallo.fi
DTSTART:20220612T150000Z
DTEND:20220612T163000Z
DTSTAMP:20220612T204331Z
URL:https://polinpallo.fi/?event=treenit-otaniemessa-4-2022-06-12&lang=en
SUMMARY:Treenit Otaniemessä
DESCRIPTION:Treenit Otaniemen nurmella osoitteessa Otaranta 6 (Only for the
  members)
LOCATION:Otaniemen nurmikenttä\, Otakaari 6\, ESPOO\, Finland
X-APPLE-STRUCTURED-LOCATION;VALUE=URI;X-ADDRESS=Otakaari 6\, ESPOO\, Finlan
 d;X-APPLE-RADIUS=100;X-TITLE=Otaniemen nurmikenttä:geo:0,0
END:VEVENT
BEGIN:VEVENT
UID:30@polinpallo.fi
DTSTART:20220617T070000Z
DTEND:20220619T120000Z
DTSTAMP:20220613T074252Z
URL:https://polinpallo.fi/?event=kalajoen-beachfutis-turnaus&lang=en
SUMMARY:Kalajoen Beachfutis turnaus
DESCRIPTION:Kalajoen Beachfutis turnaus\, jonne PolPa  osallistuu omalla j
 oukkueellaan! https://www.beachfutiskalajoki.fi/
END:VEVENT
BEGIN:VEVENT
UID:8@polinpallo.fi
DTSTART:20220619T150000Z
DTEND:20220619T163000Z
DTSTAMP:20220613T074536Z
URL:https://polinpallo.fi/?event=treenit&lang=en
SUMMARY:Treenit
DESCRIPTION:
LOCATION:Otaniemen nurmikenttä\, Otaranta 6\, ESPOO\, Finland
X-APPLE-STRUCTURED-LOCATION;VALUE=URI;X-ADDRESS=Otaranta 6\, ESPOO\, Finlan
 d;X-APPLE-RADIUS=100;X-TITLE=Otaniemen nurmikenttä:geo:0,0
END:VEVENT
BEGIN:VEVENT
UID:18@polinpallo.fi
DTSTART:20220703T150000Z
DTEND:20220703T163000Z
DTSTAMP:20220613T074604Z
URL:https://polinpallo.fi/?event=treenit-2&lang=en
SUMMARY:Treenit
DESCRIPTION:
LOCATION:Otaniemen nurmikenttä\, Otaranta 6\, ESPOO\, Finland
X-APPLE-STRUCTURED-LOCATION;VALUE=URI;X-ADDRESS=Otaranta 6\, ESPOO\, Finlan
 d;X-APPLE-RADIUS=100;X-TITLE=Otaniemen nurmikenttä:geo:0,0
END:VEVENT
BEGIN:VEVENT
UID:11@polinpallo.fi
DTSTART:20220710T180000Z
DTEND:20220710T193000Z
DTSTAMP:20220613T074635Z
URL:https://polinpallo.fi/?event=treenit-otaniemessa-2-2022-07-10&lang=en
SUMMARY:Treenit Otaniemessä
DESCRIPTION:Treenit Otaniemen nurmella osoitteessa Otaranta 6 (Only for the
  members)
LOCATION:Otaniemen nurmikenttä\, Otakaari 6\, ESPOO\, Finland
X-APPLE-STRUCTURED-LOCATION;VALUE=URI;X-ADDRESS=Otakaari 6\, ESPOO\, Finlan
 d;X-APPLE-RADIUS=100;X-TITLE=Otaniemen nurmikenttä:geo:0,0
END:VEVENT
BEGIN:VEVENT
UID:12@polinpallo.fi
DTSTART:20220717T180000Z
DTEND:20220717T193000Z
DTSTAMP:20220613T074743Z
URL:https://polinpallo.fi/?event=treenit-otaniemessa-2-2022-07-17&lang=en
SUMMARY:Treenit Otaniemessä
DESCRIPTION:Treenit Otaniemen nurmella osoitteessa Otaranta 6 (Only for the
  members)
LOCATION:Otaniemen nurmikenttä\, Otakaari 6\, ESPOO\, Finland
X-APPLE-STRUCTURED-LOCATION;VALUE=URI;X-ADDRESS=Otakaari 6\, ESPOO\, Finlan
 d;X-APPLE-RADIUS=100;X-TITLE=Otaniemen nurmikenttä:geo:0,0
END:VEVENT
BEGIN:VEVENT
UID:31@polinpallo.fi
DTSTART:20220721T190000Z
DTEND:20220721T210000Z
DTSTAMP:20220713T054316Z
URL:https://polinpallo.fi/?event=treenit-otaniemessa&lang=en
SUMMARY:Treenit Otaniemessä
DESCRIPTION:Polin Pallon peliin valmistavat treenit Otaniemen nurmikentäll
 ä klo 19:00-21:00
END:VEVENT
BEGIN:VEVENT
UID:13@polinpallo.fi
DTSTART:20220724T180000Z
DTEND:20220724T193000Z
DTSTAMP:20220613T074819Z
URL:https://polinpallo.fi/?event=treenit-otaniemessa-2-2022-07-24&lang=en
SUMMARY:Treenit Otaniemessä
DESCRIPTION:Treenit Otaniemen nurmella osoitteessa Otaranta 6 (Only for the
  members)
LOCATION:Otaniemen nurmikenttä\, Otakaari 6\, ESPOO\, Finland
X-APPLE-STRUCTURED-LOCATION;VALUE=URI;X-ADDRESS=Otakaari 6\, ESPOO\, Finlan
 d;X-APPLE-RADIUS=100;X-TITLE=Otaniemen nurmikenttä:geo:0,0
END:VEVENT
BEGIN:VEVENT
UID:34@polinpallo.fi
DTSTART:20220728T190000Z
DTEND:20220728T203000Z
DTSTAMP:20220808T184515Z
URL:https://polinpallo.fi/?event=treenit-otaniemessa-5-2022-07-28&lang=en
SUMMARY:Training at Otaniemi
DESCRIPTION:Trainings on the grass field of Otaniemi. Address: Otaranta 6 (
 Only for the members)
END:VEVENT
BEGIN:VEVENT
UID:15@polinpallo.fi
DTSTART:20220731T150000Z
DTEND:20220731T163000Z
DTSTAMP:20220808T184536Z
URL:https://polinpallo.fi/?event=treenit-otaniemessa-3-2022-07-31&lang=en
SUMMARY:Training at Otaniemi
DESCRIPTION:Trainings on the grass field of Otaniemi. Address: Otaranta 6 (
 Only for the members)
LOCATION:Otaniemen nurmikenttä\, Otakaari 6\, ESPOO\, Finland
X-APPLE-STRUCTURED-LOCATION;VALUE=URI;X-ADDRESS=Otakaari 6\, ESPOO\, Finlan
 d;X-APPLE-RADIUS=100;X-TITLE=Otaniemen nurmikenttä:geo:0,0
END:VEVENT
BEGIN:VEVENT
UID:37@polinpallo.fi
DTSTART:20220731T183000Z
DTEND:20220731T230000Z
DTSTAMP:20220727T055641Z
URL:https://polinpallo.fi/?event=polin-pallo-x-fc-kissat-kisakatsomo&lang=
 en
SUMMARY:Polin Pallo x FC Kissat Kisakatsomo
DESCRIPTION:Kisakatsomo UEFA naisten em-finaaliin. Tapahtumapaikkana kylän
  olohuone osoitteessa Jämeräntaival 5 A. Tarjolla pientä purtavaa! (Mem
 bers only!)
LOCATION:Kylän olohuone\, Jämeräntaival 5\, ESPOO\, Finland
X-APPLE-STRUCTURED-LOCATION;VALUE=URI;X-ADDRESS=Jämeräntaival 5\, ESPOO\,
  Finland;X-APPLE-RADIUS=100;X-TITLE=Kylän olohuone:geo:0,0
END:VEVENT
BEGIN:VEVENT
UID:35@polinpallo.fi
DTSTART:20220804T190000Z
DTEND:20220804T203000Z
DTSTAMP:20220808T184515Z
URL:https://polinpallo.fi/?event=treenit-otaniemessa-5-2022-08-04&lang=en
SUMMARY:Training at Otaniemi
DESCRIPTION:Trainings on the grass field of Otaniemi. Address: Otaranta 6 (
 Only for the members)
END:VEVENT
BEGIN:VEVENT
UID:16@polinpallo.fi
DTSTART:20220807T150000Z
DTEND:20220807T163000Z
DTSTAMP:20220808T184536Z
URL:https://polinpallo.fi/?event=treenit-otaniemessa-3-2022-08-07&lang=en
SUMMARY:Training at Otaniemi
DESCRIPTION:Trainings on the grass field of Otaniemi. Address: Otaranta 6 (
 Only for the members)
LOCATION:Otaniemen nurmikenttä\, Otakaari 6\, ESPOO\, Finland
X-APPLE-STRUCTURED-LOCATION;VALUE=URI;X-ADDRESS=Otakaari 6\, ESPOO\, Finlan
 d;X-APPLE-RADIUS=100;X-TITLE=Otaniemen nurmikenttä:geo:0,0
END:VEVENT
BEGIN:VEVENT
UID:36@polinpallo.fi
DTSTART:20220811T190000Z
DTEND:20220811T203000Z
DTSTAMP:20220808T184515Z
URL:https://polinpallo.fi/?event=treenit-otaniemessa-5-2022-08-11&lang=en
SUMMARY:Training at Otaniemi
DESCRIPTION:Trainings on the grass field of Otaniemi. Address: Otaranta 6 (
 Only for the members)
END:VEVENT
BEGIN:VEVENT
UID:17@polinpallo.fi
DTSTART:20220814T150000Z
DTEND:20220814T163000Z
DTSTAMP:20220808T184536Z
URL:https://polinpallo.fi/?event=treenit-otaniemessa-3-2022-08-14&lang=en
SUMMARY:Training at Otaniemi
DESCRIPTION:Trainings on the grass field of Otaniemi. Address: Otaranta 6 (
 Only for the members)
LOCATION:Otaniemen nurmikenttä\, Otakaari 6\, ESPOO\, Finland
X-APPLE-STRUCTURED-LOCATION;VALUE=URI;X-ADDRESS=Otakaari 6\, ESPOO\, Finlan
 d;X-APPLE-RADIUS=100;X-TITLE=Otaniemen nurmikenttä:geo:0,0
END:VEVENT
BEGIN:VEVENT
UID:2@polinpallo.fi
DTSTART:20220821T180000Z
DTEND:20220821T193000Z
DTSTAMP:20220808T184556Z
URL:https://polinpallo.fi/?event=treenit-otaniemessa-2022-08-21&lang=en
SUMMARY:Training at Otaniemi
DESCRIPTION:Trainings on the grass field of Otaniemi. Address: Otaranta 6 (
 Only for the members)
LOCATION:Otaniemen nurmikenttä\, Otakaari 6\, ESPOO\, Finland
X-APPLE-STRUCTURED-LOCATION;VALUE=URI;X-ADDRESS=Otakaari 6\, ESPOO\, Finlan
 d;X-APPLE-RADIUS=100;X-TITLE=Otaniemen nurmikenttä:geo:0,0
END:VEVENT
BEGIN:VEVENT
UID:3@polinpallo.fi
DTSTART:20220828T180000Z
DTEND:20220828T193000Z
DTSTAMP:20220808T184556Z
URL:https://polinpallo.fi/?event=treenit-otaniemessa-2022-08-28&lang=en
SUMMARY:Training at Otaniemi
DESCRIPTION:Trainings on the grass field of Otaniemi. Address: Otaranta 6 (
 Only for the members)
LOCATION:Otaniemen nurmikenttä\, Otakaari 6\, ESPOO\, Finland
X-APPLE-STRUCTURED-LOCATION;VALUE=URI;X-ADDRESS=Otakaari 6\, ESPOO\, Finlan
 d;X-APPLE-RADIUS=100;X-TITLE=Otaniemen nurmikenttä:geo:0,0
END:VEVENT
BEGIN:VEVENT
UID:46@polinpallo.fi
DTSTART:20220831T160000Z
DTEND:20220831T220000Z
DTSTAMP:20220911T183409Z
URL:https://polinpallo.fi/?event=otasuunnistus-2022-08-31&lang=en
SUMMARY:Otasuunnistus
DESCRIPTION:
LOCATION:Alvarin Aukio\, Otakaari 1\, Espoo\, 02150\, Finland
X-APPLE-STRUCTURED-LOCATION;VALUE=URI;X-ADDRESS=Otakaari 1\, Espoo\, 02150\
 , Finland;X-APPLE-RADIUS=100;X-TITLE=Alvarin Aukio:geo:0,0
END:VEVENT
BEGIN:VEVENT
UID:47@polinpallo.fi
DTSTART:20220901T160000Z
DTEND:20220901T220000Z
DTSTAMP:20220911T183409Z
URL:https://polinpallo.fi/?event=otasuunnistus-2022-09-01&lang=en
SUMMARY:Otasuunnistus
DESCRIPTION:
LOCATION:Alvarin Aukio\, Otakaari 1\, Espoo\, 02150\, Finland
X-APPLE-STRUCTURED-LOCATION;VALUE=URI;X-ADDRESS=Otakaari 1\, Espoo\, 02150\
 , Finland;X-APPLE-RADIUS=100;X-TITLE=Alvarin Aukio:geo:0,0
END:VEVENT
BEGIN:VEVENT
UID:4@polinpallo.fi
DTSTART:20220904T180000Z
DTEND:20220904T193000Z
DTSTAMP:20220808T184556Z
URL:https://polinpallo.fi/?event=treenit-otaniemessa-2022-09-04&lang=en
SUMMARY:Training at Otaniemi
DESCRIPTION:Trainings on the grass field of Otaniemi. Address: Otaranta 6 (
 Only for the members)
LOCATION:Otaniemen nurmikenttä\, Otakaari 6\, ESPOO\, Finland
X-APPLE-STRUCTURED-LOCATION;VALUE=URI;X-ADDRESS=Otakaari 6\, ESPOO\, Finlan
 d;X-APPLE-RADIUS=100;X-TITLE=Otaniemen nurmikenttä:geo:0,0
END:VEVENT
BEGIN:VEVENT
UID:38@polinpallo.fi
DTSTART:20220906T150000Z
DTEND:20220906T180000Z
DTSTAMP:20220807T161953Z
URL:https://polinpallo.fi/?event=aalto-party&lang=en
SUMMARY:Aalto Party
DESCRIPTION:Aalto Party
LOCATION:Alvarin Aukio\, Otakaari 1\, Espoo\, 02150\, Finland
X-APPLE-STRUCTURED-LOCATION;VALUE=URI;X-ADDRESS=Otakaari 1\, Espoo\, 02150\
 , Finland;X-APPLE-RADIUS=100;X-TITLE=Alvarin Aukio:geo:0,0
END:VEVENT
BEGIN:VEVENT
UID:56@polinpallo.fi
DTSTART:20220908T200000Z
DTEND:20220908T210000Z
DTSTAMP:20220911T184235Z
URL:https://polinpallo.fi/?event=training-at-otaniemi-grass-2022-09-08&lan
 g=en
SUMMARY:Training at Otaniemi grass
DESCRIPTION:Training at Otaniemi grass field
LOCATION:Otaniemen nurmikenttä\, Otakaari 6\, ESPOO\, Finland
X-APPLE-STRUCTURED-LOCATION;VALUE=URI;X-ADDRESS=Otakaari 6\, ESPOO\, Finlan
 d;X-APPLE-RADIUS=100;X-TITLE=Otaniemen nurmikenttä:geo:0,0
END:VEVENT
BEGIN:VEVENT
UID:5@polinpallo.fi
DTSTART:20220911T180000Z
DTEND:20220911T193000Z
DTSTAMP:20220911T184654Z
URL:https://polinpallo.fi/?event=treenit-otaniemessa-2022-09-11&lang=en
SUMMARY:Open Practice at Otaniemi
DESCRIPTION:Trainings on the grass field of Otaniemi. Address: Otaranta 6
LOCATION:Otaniemen nurmikenttä\, Otakaari 6\, ESPOO\, Finland
X-APPLE-STRUCTURED-LOCATION;VALUE=URI;X-ADDRESS=Otakaari 6\, ESPOO\, Finlan
 d;X-APPLE-RADIUS=100;X-TITLE=Otaniemen nurmikenttä:geo:0,0
END:VEVENT
BEGIN:VEVENT
UID:57@polinpallo.fi
DTSTART:20220915T200000Z
DTEND:20220915T210000Z
DTSTAMP:20220914T184152Z
URL:https://polinpallo.fi/?event=training-at-otaniemi-grass-2022-09-15&lan
 g=en
SUMMARY:CANCELLED Training at Otaniemi grass
DESCRIPTION:Training at Otaniemi grass field\, cancelled because too dark :
 (
LOCATION:Otaniemen nurmikenttä\, Otakaari 6\, ESPOO\, Finland
X-APPLE-STRUCTURED-LOCATION;VALUE=URI;X-ADDRESS=Otakaari 6\, ESPOO\, Finlan
 d;X-APPLE-RADIUS=100;X-TITLE=Otaniemen nurmikenttä:geo:0,0
END:VEVENT
BEGIN:VEVENT
UID:6@polinpallo.fi
DTSTART:20220918T160000Z
DTEND:20220918T173000Z
DTSTAMP:20220911T184554Z
URL:https://polinpallo.fi/?event=treenit-otaniemessa-2022-09-18&lang=en
SUMMARY:Match against KY-United at Otaniemi grass
DESCRIPTION:Practice match against KY-United on the grass field of Otaniemi
 . Address: Otaranta 6 (Only for the members)
LOCATION:Otaniemen nurmikenttä\, Otakaari 6\, ESPOO\, Finland
X-APPLE-STRUCTURED-LOCATION;VALUE=URI;X-ADDRESS=Otakaari 6\, ESPOO\, Finlan
 d;X-APPLE-RADIUS=100;X-TITLE=Otaniemen nurmikenttä:geo:0,0
END:VEVENT
BEGIN:VEVENT
UID:58@polinpallo.fi
DTSTART:20220922T200000Z
DTEND:20220922T210000Z
DTSTAMP:20220914T184515Z
URL:https://polinpallo.fi/?event=training-at-otaniemi-grass-2022-09-22&lan
 g=en
SUMMARY:CANCELLED Open practice at Otaniemi grass
DESCRIPTION:Training at Otaniemi grass field Cancelled because too dark :(
LOCATION:Otaniemen nurmikenttä\, Otakaari 6\, ESPOO\, Finland
X-APPLE-STRUCTURED-LOCATION;VALUE=URI;X-ADDRESS=Otakaari 6\, ESPOO\, Finlan
 d;X-APPLE-RADIUS=100;X-TITLE=Otaniemen nurmikenttä:geo:0,0
END:VEVENT
BEGIN:VEVENT
UID:7@polinpallo.fi
DTSTART:20220925T180000Z
DTEND:20220925T193000Z
DTSTAMP:20220914T184440Z
URL:https://polinpallo.fi/?event=treenit-otaniemessa-2022-09-25&lang=en
SUMMARY:Training at Otaniemi
DESCRIPTION:Trainings on the grass field of Otaniemi. Address: Otaranta 6 (
 Only for the members)
LOCATION:Otaniemen nurmikenttä\, Otakaari 6\, ESPOO\, Finland
X-APPLE-STRUCTURED-LOCATION;VALUE=URI;X-ADDRESS=Otakaari 6\, ESPOO\, Finlan
 d;X-APPLE-RADIUS=100;X-TITLE=Otaniemen nurmikenttä:geo:0,0
END:VEVENT
BEGIN:VEVENT
UID:59@polinpallo.fi
DTSTART:20220929T200000Z
DTEND:20220929T210000Z
DTSTAMP:20220914T184400Z
URL:https://polinpallo.fi/?event=training-at-otaniemi-grass-2022-09-29&lan
 g=en
SUMMARY:CANCELLED Training at Otaniemi grass
DESCRIPTION:Training at Otaniemi grass field cancelled because too dark :(
LOCATION:Otaniemen nurmikenttä\, Otakaari 6\, ESPOO\, Finland
X-APPLE-STRUCTURED-LOCATION;VALUE=URI;X-ADDRESS=Otakaari 6\, ESPOO\, Finlan
 d;X-APPLE-RADIUS=100;X-TITLE=Otaniemen nurmikenttä:geo:0,0
END:VEVENT
BEGIN:VEVENT
UID:40@polinpallo.fi
DTSTART:20221003T173000Z
DTEND:20221003T190000Z
DTSTAMP:20220904T092720Z
URL:https://polinpallo.fi/?event=football-training-at-mankkaa-artificial-g
 rass&lang=en
SUMMARY:Football training at Mankkaa artificial grass
DESCRIPTION:
LOCATION:Mankkaa artificial grass / Mankkaan tekonurmi\, Mankkaansuo 8\, Es
 poo\, 02180\, Finland
X-APPLE-STRUCTURED-LOCATION;VALUE=URI;X-ADDRESS=Mankkaansuo 8\, Espoo\, 021
 80\, Finland;X-APPLE-RADIUS=100;X-TITLE=Mankkaa artificial grass / Mankkaa
 n tekonurmi:geo:0,0
END:VEVENT
BEGIN:VEVENT
UID:41@polinpallo.fi
DTSTART:20221010T173000Z
DTEND:20221010T190000Z
DTSTAMP:20220904T092827Z
URL:https://polinpallo.fi/?event=football-training-at-mankkaa-artificial-g
 rass-2&lang=en
SUMMARY:Football training at Mankkaa artificial grass
DESCRIPTION:
LOCATION:Mankkaa artificial grass / Mankkaan tekonurmi\, Mankkaansuo 8\, Es
 poo\, 02180\, Finland
X-APPLE-STRUCTURED-LOCATION;VALUE=URI;X-ADDRESS=Mankkaansuo 8\, Espoo\, 021
 80\, Finland;X-APPLE-RADIUS=100;X-TITLE=Mankkaa artificial grass / Mankkaa
 n tekonurmi:geo:0,0
END:VEVENT
BEGIN:VEVENT
UID:42@polinpallo.fi
DTSTART:20221017T173000Z
DTEND:20221017T190000Z
DTSTAMP:20220904T092853Z
URL:https://polinpallo.fi/?event=football-training-at-mankkaa-artificial-g
 rass-3&lang=en
SUMMARY:Football training at Mankkaa artificial grass
DESCRIPTION:
LOCATION:Mankkaa artificial grass / Mankkaan tekonurmi\, Mankkaansuo 8\, Es
 poo\, 02180\, Finland
X-APPLE-STRUCTURED-LOCATION;VALUE=URI;X-ADDRESS=Mankkaansuo 8\, Espoo\, 021
 80\, Finland;X-APPLE-RADIUS=100;X-TITLE=Mankkaa artificial grass / Mankkaa
 n tekonurmi:geo:0,0
END:VEVENT
BEGIN:VEVENT
UID:43@polinpallo.fi
DTSTART:20221024T173000Z
DTEND:20221024T190000Z
DTSTAMP:20220904T092911Z
URL:https://polinpallo.fi/?event=football-training-at-mankkaa-artificial-g
 rass-4&lang=en
SUMMARY:Football training at Mankkaa artificial grass
DESCRIPTION:
LOCATION:Mankkaa artificial grass / Mankkaan tekonurmi\, Mankkaansuo 8\, Es
 poo\, 02180\, Finland
X-APPLE-STRUCTURED-LOCATION;VALUE=URI;X-ADDRESS=Mankkaansuo 8\, Espoo\, 021
 80\, Finland;X-APPLE-RADIUS=100;X-TITLE=Mankkaa artificial grass / Mankkaa
 n tekonurmi:geo:0,0
END:VEVENT
BEGIN:VEVENT
UID:44@polinpallo.fi
DTSTART:20221031T173000Z
DTEND:20221031T190000Z
DTSTAMP:20220904T092936Z
URL:https://polinpallo.fi/?event=football-training-at-mankkaa-artificial-g
 rass-5&lang=en
SUMMARY:Football training at Mankkaa artificial grass
DESCRIPTION:
LOCATION:Mankkaa artificial grass / Mankkaan tekonurmi\, Mankkaansuo 8\, Es
 poo\, 02180\, Finland
X-APPLE-STRUCTURED-LOCATION;VALUE=URI;X-ADDRESS=Mankkaansuo 8\, Espoo\, 021
 80\, Finland;X-APPLE-RADIUS=100;X-TITLE=Mankkaa artificial grass / Mankkaa
 n tekonurmi:geo:0,0
END:VEVENT
BEGIN:VEVENT
UID:61@polinpallo.fi
DTSTART:20221106T193000Z
DTEND:20221106T203000Z
DTSTAMP:20221114T100356Z
URL:https://polinpallo.fi/?event=futsal-training-at-niittykumpu-1930-2030-
 2022-11-06&lang=en
SUMMARY:Futsal training at Niittykumpu 19:30-20:30
DESCRIPTION:Futsal training at the school of Niittykumpu (Vuoritontuntie 18
 )\n\nNote:\n\nOnly the outdoor B can be used\, the door can't be let open 
 so be on time! Outdoor shoes must be left to hallway\, changing rooms can 
 be used if needed
END:VEVENT
BEGIN:VEVENT
UID:66@polinpallo.fi
DTSTART:20221112T191500Z
DTEND:20221112T204500Z
DTSTAMP:20221114T100757Z
URL:https://polinpallo.fi/?event=futsal-match-against-fc-pohu-japa&lang=en
SUMMARY:Futsal match against FC POHU/JäPa
DESCRIPTION:At Espoonlahden liikuntahalli\, Espoo
END:VEVENT
BEGIN:VEVENT
UID:62@polinpallo.fi
DTSTART:20221113T193000Z
DTEND:20221113T203000Z
DTSTAMP:20221114T100356Z
URL:https://polinpallo.fi/?event=futsal-training-at-niittykumpu-1930-2030-
 2022-11-13&lang=en
SUMMARY:Futsal training at Niittykumpu 19:30-20:30
DESCRIPTION:Futsal training at the school of Niittykumpu (Vuoritontuntie 18
 )\n\nNote:\n\nOnly the outdoor B can be used\, the door can't be let open 
 so be on time! Outdoor shoes must be left to hallway\, changing rooms can 
 be used if needed
END:VEVENT
BEGIN:VEVENT
UID:68@polinpallo.fi
DTSTART:20221120T180000Z
DTEND:20221120T210000Z
DTSTAMP:20221114T102555Z
URL:https://polinpallo.fi/?event=match-evening-first-match-of-worldcup-qat
 ar-ecuador&lang=en
SUMMARY:Match evening: first match of worldcup: Qatar - Ecuador
DESCRIPTION:at Ossinkulma\, Otakaari 18A at 18:00 on
END:VEVENT
BEGIN:VEVENT
UID:63@polinpallo.fi
DTSTART:20221120T193000Z
DTEND:20221120T203000Z
DTSTAMP:20221114T100356Z
URL:https://polinpallo.fi/?event=futsal-training-at-niittykumpu-1930-2030-
 2022-11-20&lang=en
SUMMARY:Futsal training at Niittykumpu 19:30-20:30
DESCRIPTION:Futsal training at the school of Niittykumpu (Vuoritontuntie 18
 )\n\nNote:\n\nOnly the outdoor B can be used\, the door can't be let open 
 so be on time! Outdoor shoes must be left to hallway\, changing rooms can 
 be used if needed
END:VEVENT
BEGIN:VEVENT
UID:64@polinpallo.fi
DTSTART:20221127T193000Z
DTEND:20221127T203000Z
DTSTAMP:20221114T100356Z
URL:https://polinpallo.fi/?event=futsal-training-at-niittykumpu-1930-2030-
 2022-11-27&lang=en
SUMMARY:Futsal training at Niittykumpu 19:30-20:30
DESCRIPTION:Futsal training at the school of Niittykumpu (Vuoritontuntie 18
 )\n\nNote:\n\nOnly the outdoor B can be used\, the door can't be let open 
 so be on time! Outdoor shoes must be left to hallway\, changing rooms can 
 be used if needed
END:VEVENT
BEGIN:VEVENT
UID:65@polinpallo.fi
DTSTART:20221204T193000Z
DTEND:20221204T203000Z
DTSTAMP:20221114T100356Z
URL:https://polinpallo.fi/?event=futsal-training-at-niittykumpu-1930-2030-
 2022-12-04&lang=en
SUMMARY:Futsal training at Niittykumpu 19:30-20:30
DESCRIPTION:Futsal training at the school of Niittykumpu (Vuoritontuntie 18
 )\n\nNote:\n\nOnly the outdoor B can be used\, the door can't be let open 
 so be on time! Outdoor shoes must be left to hallway\, changing rooms can 
 be used if needed
END:VEVENT
BEGIN:VEVENT
UID:69@polinpallo.fi
DTSTART;VALUE=DATE:20221208
DTEND;VALUE=DATE:20221209
DTSTAMP:20221205T193657Z
URL:https://polinpallo.fi/?event=radio-diodi-performance&lang=en
SUMMARY:Aalto-Basket x Polin Pallo BP tournament
DESCRIPTION:More information in Telegram group! Participation fee include f
 ood\, snacks and sauna.
END:VEVENT
BEGIN:VEVENT
UID:67@polinpallo.fi
DTSTART:20221210T121500Z
DTEND:20221210T190000Z
DTSTAMP:20221114T102011Z
URL:https://polinpallo.fi/?event=double-futsal-match-day&lang=en
SUMMARY:Double Futsal match day
DESCRIPTION:Tikka/Edustus at Esport 1\, Espoo \, from 12:15 0n\n\nRHL at Le
 ppävaaran liikuntahalli\, Espoo\, from 17:15 on
END:VEVENT
BEGIN:VEVENT
UID:70@polinpallo.fi
DTSTART;VALUE=DATE:20221211
DTEND;VALUE=DATE:20221212
DTSTAMP:20221205T194013Z
URL:https://polinpallo.fi/?event=polin-pallo-board-election-meeting&lang=e
 n
SUMMARY:Polin Pallo board election meeting
DESCRIPTION:Invitation to Polin Pallo´s election meeting:\n\nPolin Pallo's
  election meeting will be held on Sunday 11.12. at 5 p.m. in the Living Ro
 om of Teekkari Village (Jämeräntaival 5 A). In the meeting\, the board a
 nd possible other active members will be chosen for next year. Please note
  that participation in the elections is mandatory if you want to be electe
 d! If you can´t make it to the elections but would like to be a member of
  the board\, contact @ilmarihieta in telegram.\nThere will also be some sn
 acks for everyone.\nYou can apply in advance by filling this form: https:/
 /forms.gle/KtQAMa477rjaMbiz8
END:VEVENT
END:VCALENDAR